BEGIN:VCALENDAR
VERSION:2.0
PRODID:-//Centre Ridge Elementary School PTA - ECPv6.15.16.1//NONSGML v1.0//EN
CALSCALE:GREGORIAN
METHOD:PUBLISH
X-WR-CALNAME:Centre Ridge Elementary School PTA
X-ORIGINAL-URL:https://centreridgepta.org
X-WR-CALDESC:Events for Centre Ridge Elementary School PTA
REFRESH-INTERVAL;VALUE=DURATION:PT1H
X-Robots-Tag:noindex
X-PUBLISHED-TTL:PT1H
BEGIN:VTIMEZONE
TZID:America/New_York
BEGIN:DAYLIGHT
TZOFFSETFROM:-0500
TZOFFSETTO:-0400
TZNAME:EDT
DTSTART:20220313T070000
END:DAYLIGHT
BEGIN:STANDARD
TZOFFSETFROM:-0400
TZOFFSETTO:-0500
TZNAME:EST
DTSTART:20221106T060000
END:STANDARD
BEGIN:DAYLIGHT
TZOFFSETFROM:-0500
TZOFFSETTO:-0400
TZNAME:EDT
DTSTART:20230312T070000
END:DAYLIGHT
BEGIN:STANDARD
TZOFFSETFROM:-0400
TZOFFSETTO:-0500
TZNAME:EST
DTSTART:20231105T060000
END:STANDARD
BEGIN:DAYLIGHT
TZOFFSETFROM:-0500
TZOFFSETTO:-0400
TZNAME:EDT
DTSTART:20240310T070000
END:DAYLIGHT
BEGIN:STANDARD
TZOFFSETFROM:-0400
TZOFFSETTO:-0500
TZNAME:EST
DTSTART:20241103T060000
END:STANDARD
BEGIN:DAYLIGHT
TZOFFSETFROM:-0500
TZOFFSETTO:-0400
TZNAME:EDT
DTSTART:20250309T070000
END:DAYLIGHT
BEGIN:STANDARD
TZOFFSETFROM:-0400
TZOFFSETTO:-0500
TZNAME:EST
DTSTART:20251102T060000
END:STANDARD
END:VTIMEZONE
BEGIN:VEVENT
DTSTART;VALUE=DATE:20240619
DTEND;VALUE=DATE:20240620
DTSTAMP:20260425T135259
CREATED:20230817T154810Z
LAST-MODIFIED:20230817T154810Z
UID:4608-1718755200-1718841599@centreridgepta.org
SUMMARY:Holiday ( Juneteenth)
DESCRIPTION:
URL:https://centreridgepta.org/event/holiday-juneteenth/
END:VEVENT
BEGIN:VEVENT
DTSTART;VALUE=DATE:20240617
DTEND;VALUE=DATE:20240618
DTSTAMP:20260425T135259
CREATED:20230817T154733Z
LAST-MODIFIED:20230817T154733Z
UID:4606-1718582400-1718668799@centreridgepta.org
SUMMARY:Holiday (Eid-al-Adha)
DESCRIPTION:
URL:https://centreridgepta.org/event/holiday-eid-al-adha/
END:VEVENT
BEGIN:VEVENT
DTSTART;VALUE=DATE:20240612
DTEND;VALUE=DATE:20240613
DTSTAMP:20260425T135259
CREATED:20230817T154657Z
LAST-MODIFIED:20230817T154657Z
UID:4604-1718150400-1718236799@centreridgepta.org
SUMMARY:Last Day of School (Early Release)
DESCRIPTION:
URL:https://centreridgepta.org/event/last-day-of-school-early-release-3/
END:VEVENT
BEGIN:VEVENT
DTSTART;VALUE=DATE:20240527
DTEND;VALUE=DATE:20240528
DTSTAMP:20260425T135259
CREATED:20230817T154618Z
LAST-MODIFIED:20230817T154618Z
UID:4602-1716768000-1716854399@centreridgepta.org
SUMMARY:Holiday (Memorial Day)
DESCRIPTION:
URL:https://centreridgepta.org/event/holiday-memorial-day-4/
END:VEVENT
BEGIN:VEVENT
DTSTART;VALUE=DATE:20240503
DTEND;VALUE=DATE:20240504
DTSTAMP:20260425T135259
CREATED:20230817T154543Z
LAST-MODIFIED:20230817T154543Z
UID:4600-1714694400-1714780799@centreridgepta.org
SUMMARY:Student Holiday
DESCRIPTION:
URL:https://centreridgepta.org/event/student-holiday-27/
END:VEVENT
BEGIN:VEVENT
DTSTART;VALUE=DATE:20240410
DTEND;VALUE=DATE:20240411
DTSTAMP:20260425T135259
CREATED:20230817T154452Z
LAST-MODIFIED:20230817T154452Z
UID:4598-1712707200-1712793599@centreridgepta.org
SUMMARY:Holiday (Eid al Fitr)
DESCRIPTION:
URL:https://centreridgepta.org/event/holiday-eid-al-fitr/
END:VEVENT
BEGIN:VEVENT
DTSTART;VALUE=DATE:20240401
DTEND;VALUE=DATE:20240403
DTSTAMP:20260425T135259
CREATED:20230817T154414Z
LAST-MODIFIED:20230817T154414Z
UID:4596-1711929600-1712102399@centreridgepta.org
SUMMARY:Student Holiday
DESCRIPTION:
URL:https://centreridgepta.org/event/student-holiday-26/
END:VEVENT
BEGIN:VEVENT
DTSTART;VALUE=DATE:20240325
DTEND;VALUE=DATE:20240330
DTSTAMP:20260425T135259
CREATED:20230817T154323Z
LAST-MODIFIED:20230817T154323Z
UID:4594-1711324800-1711756799@centreridgepta.org
SUMMARY:Holiday (Spring Break)
DESCRIPTION:
URL:https://centreridgepta.org/event/holiday-spring-break-3/
END:VEVENT
BEGIN:VEVENT
DTSTART;VALUE=DATE:20240322
DTEND;VALUE=DATE:20240323
DTSTAMP:20260425T135259
CREATED:20230817T154243Z
LAST-MODIFIED:20230817T154243Z
UID:4592-1711065600-1711151999@centreridgepta.org
SUMMARY:End of Third Quarter
DESCRIPTION:
URL:https://centreridgepta.org/event/end-of-third-quarter/
END:VEVENT
BEGIN:VEVENT
DTSTART;VALUE=DATE:20240219
DTEND;VALUE=DATE:20240220
DTSTAMP:20260425T135259
CREATED:20230817T154158Z
LAST-MODIFIED:20230817T154158Z
UID:4590-1708300800-1708387199@centreridgepta.org
SUMMARY:Holiday (George Washington’s Birthday and Presidents’ Day)
DESCRIPTION:
URL:https://centreridgepta.org/event/holiday-george-washingtons-birthday-and-presidents-day-3/
END:VEVENT
BEGIN:VEVENT
DTSTART;VALUE=DATE:20240126
DTEND;VALUE=DATE:20240127
DTSTAMP:20260425T135259
CREATED:20230817T154123Z
LAST-MODIFIED:20230817T154123Z
UID:4588-1706227200-1706313599@centreridgepta.org
SUMMARY:Student Holiday
DESCRIPTION:
URL:https://centreridgepta.org/event/student-holiday-25/
END:VEVENT
BEGIN:VEVENT
DTSTART;VALUE=DATE:20240125
DTEND;VALUE=DATE:20240126
DTSTAMP:20260425T135259
CREATED:20230817T154046Z
LAST-MODIFIED:20230817T154046Z
UID:4586-1706140800-1706227199@centreridgepta.org
SUMMARY:End of Second Quarter - 2-hour Early Release
DESCRIPTION:
URL:https://centreridgepta.org/event/end-of-second-quarter-2-hour-early-release-3/
END:VEVENT
BEGIN:VEVENT
DTSTART;VALUE=DATE:20240115
DTEND;VALUE=DATE:20240116
DTSTAMP:20260425T135259
CREATED:20230817T154009Z
LAST-MODIFIED:20230817T154009Z
UID:4584-1705276800-1705363199@centreridgepta.org
SUMMARY:Holiday (Martin Luther King Jr.'s Birthday)
DESCRIPTION:
URL:https://centreridgepta.org/event/holiday-martin-luther-king-jr-s-birthday-2/
END:VEVENT
BEGIN:VEVENT
DTSTART;VALUE=DATE:20231218
DTEND;VALUE=DATE:20240102
DTSTAMP:20260425T135259
CREATED:20230817T153801Z
LAST-MODIFIED:20230817T153801Z
UID:4582-1702857600-1704153599@centreridgepta.org
SUMMARY:Holiday (Winter Break)
DESCRIPTION:
URL:https://centreridgepta.org/event/holiday-winter-break-2/
END:VEVENT
BEGIN:VEVENT
DTSTART;VALUE=DATE:20231122
DTEND;VALUE=DATE:20231125
DTSTAMP:20260425T135259
CREATED:20230817T153651Z
LAST-MODIFIED:20230817T153651Z
UID:4580-1700611200-1700870399@centreridgepta.org
SUMMARY:Holiday (Thanksgiving Break)
DESCRIPTION:
URL:https://centreridgepta.org/event/holiday-thanksgiving-break/
END:VEVENT
BEGIN:VEVENT
DTSTART;TZID=America/New_York:20231110T183000
DTEND;TZID=America/New_York:20231110T200000
DTSTAMP:20260425T135259
CREATED:20231006T175108Z
LAST-MODIFIED:20231006T175111Z
UID:4887-1699641000-1699646400@centreridgepta.org
SUMMARY:Fall Bingo Night!
DESCRIPTION:
URL:https://centreridgepta.org/event/fall-bingo-night/
LOCATION:Centre Ridge Elementary School\, 14400 New Braddock Rd\, Centreville\, VA\, 20121\, United States
END:VEVENT
BEGIN:VEVENT
DTSTART;TZID=America/New_York:20231107T060000
DTEND;TZID=America/New_York:20231107T130000
DTSTAMP:20260425T135259
CREATED:20231017T184539Z
LAST-MODIFIED:20231017T184542Z
UID:4902-1699336800-1699362000@centreridgepta.org
SUMMARY:Election Day Bake Sale
DESCRIPTION:Sign up here to volunteer at the table and/or bake some goodies! https://www.signupgenius.com/go/10C084AABAE2FA5F8C07-45337488-election#/
URL:https://centreridgepta.org/event/election-day-bake-sale/
END:VEVENT
BEGIN:VEVENT
DTSTART;VALUE=DATE:20231106
DTEND;VALUE=DATE:20231108
DTSTAMP:20260425T135259
CREATED:20230817T153534Z
LAST-MODIFIED:20230817T153606Z
UID:4578-1699228800-1699401599@centreridgepta.org
SUMMARY:Student Holiday
DESCRIPTION:
URL:https://centreridgepta.org/event/student-holiday-24/
END:VEVENT
BEGIN:VEVENT
DTSTART;VALUE=DATE:20231103
DTEND;VALUE=DATE:20231104
DTSTAMP:20260425T135259
CREATED:20230817T153456Z
LAST-MODIFIED:20230817T153456Z
UID:4576-1698969600-1699055999@centreridgepta.org
SUMMARY:End of First Quarter - 2-hour Early Release
DESCRIPTION:
URL:https://centreridgepta.org/event/end-of-first-quarter-2-hour-early-release-3/
END:VEVENT
BEGIN:VEVENT
DTSTART;TZID=America/New_York:20231021T170000
DTEND;TZID=America/New_York:20231021T190000
DTSTAMP:20260425T135259
CREATED:20231017T184639Z
LAST-MODIFIED:20231017T184642Z
UID:4904-1697907600-1697914800@centreridgepta.org
SUMMARY:Liberty MS Trunk or Treat
DESCRIPTION:Details here: https://www.facebook.com/events/335191162498662/
URL:https://centreridgepta.org/event/liberty-ms-trunk-or-treat/
END:VEVENT
BEGIN:VEVENT
DTSTART;TZID=America/New_York:20231010T190000
DTEND;TZID=America/New_York:20231010T200000
DTSTAMP:20260425T135259
CREATED:20231006T175005Z
LAST-MODIFIED:20231006T175007Z
UID:4885-1696964400-1696968000@centreridgepta.org
SUMMARY:PTA Meeting
DESCRIPTION:October monthly PTA meeting in CRES Library and Zoom
URL:https://centreridgepta.org/event/pta-meeting/
LOCATION:Centre Ridge Elementary School\, 14400 New Braddock Rd\, Centreville\, VA\, 20121\, United States
END:VEVENT
BEGIN:VEVENT
DTSTART;VALUE=DATE:20231009
DTEND;VALUE=DATE:20231010
DTSTAMP:20260425T135259
CREATED:20230817T153420Z
LAST-MODIFIED:20230817T153420Z
UID:4574-1696809600-1696895999@centreridgepta.org
SUMMARY:Student Holiday - Indigenous Peoples’ Day
DESCRIPTION:
URL:https://centreridgepta.org/event/student-holiday-indigenous-peoples-day-2/
END:VEVENT
BEGIN:VEVENT
DTSTART;TZID=America/New_York:20231004T091500
DTEND;TZID=America/New_York:20231004T101500
DTSTAMP:20260425T135259
CREATED:20230913T170910Z
LAST-MODIFIED:20230913T170912Z
UID:4855-1696410900-1696414500@centreridgepta.org
SUMMARY:ESOL Community Coffee
DESCRIPTION:Join the ESOL team for coffee in the Cafeteria!
URL:https://centreridgepta.org/event/esol-community-coffee/
END:VEVENT
BEGIN:VEVENT
DTSTART;TZID=America/New_York:20230929T170000
DTEND;TZID=America/New_York:20230929T190000
DTSTAMP:20260425T135259
CREATED:20230908T130033Z
LAST-MODIFIED:20230908T130035Z
UID:4841-1696006800-1696014000@centreridgepta.org
SUMMARY:Centreville High School Homecoming Parade
DESCRIPTION:
URL:https://centreridgepta.org/event/centreville-high-school-homecoming-parade/
END:VEVENT
BEGIN:VEVENT
DTSTART;TZID=America/New_York:20230928T173000
DTEND;TZID=America/New_York:20230928T200000
DTSTAMP:20260425T135259
CREATED:20230817T154928Z
LAST-MODIFIED:20230830T223158Z
UID:4610-1695922200-1695931200@centreridgepta.org
SUMMARY:Back To School Night
DESCRIPTION:Kindergarten: 5:00 pm presentation (café); Classroom visit: 5:30 pm \nGrades 1 & 2: 5:45 pm presentation (gym/café); Classroom visit: 6:15 pm \nGrades 3 & 4: 6:30 pm presentation (gym/café); Classroom visit: 7:00 pm \nGrades 5 & 6: 7:15 pm presentation gym/café); Classroom visit: 7:45 pm \nClassroom visits will be 15 minutes. You will have an opportunity to view student learning and progress!
URL:https://centreridgepta.org/event/back-to-school-night-2/
END:VEVENT
BEGIN:VEVENT
DTSTART;VALUE=DATE:20230925
DTEND;VALUE=DATE:20230926
DTSTAMP:20260425T135259
CREATED:20230817T153343Z
LAST-MODIFIED:20230817T153343Z
UID:4572-1695600000-1695686399@centreridgepta.org
SUMMARY:Holiday (Yom Kippur)
DESCRIPTION:
URL:https://centreridgepta.org/event/holiday-yom-kippur/
END:VEVENT
BEGIN:VEVENT
DTSTART;TZID=America/New_York:20230912T190000
DTEND;TZID=America/New_York:20230912T200000
DTSTAMP:20260425T135259
CREATED:20230906T160737Z
LAST-MODIFIED:20230906T160737Z
UID:4660-1694545200-1694548800@centreridgepta.org
SUMMARY:PTA Meeting
DESCRIPTION:
URL:https://centreridgepta.org/event/pta-meeting-11/
LOCATION:Centre Ridge Elementary School\, 14400 New Braddock Rd\, Centreville\, VA\, 20121\, United States
ORGANIZER;CN="Centre Ridge Elementary School PTA":MAILTO:info@centreridgepta.org
END:VEVENT
BEGIN:VEVENT
DTSTART;VALUE=DATE:20230901
DTEND;VALUE=DATE:20230905
DTSTAMP:20260425T135259
CREATED:20230817T153312Z
LAST-MODIFIED:20230817T153312Z
UID:4570-1693526400-1693871999@centreridgepta.org
SUMMARY:Holiday (Labor Day Break)
DESCRIPTION:
URL:https://centreridgepta.org/event/holiday-labor-day-break-2/
END:VEVENT
BEGIN:VEVENT
DTSTART;VALUE=DATE:20230821
DTEND;VALUE=DATE:20230822
DTSTAMP:20260425T135259
CREATED:20230817T153230Z
LAST-MODIFIED:20230817T153230Z
UID:4568-1692576000-1692662399@centreridgepta.org
SUMMARY:School Begins - First Day of School
DESCRIPTION:
URL:https://centreridgepta.org/event/school-begins-first-day-of-school/
END:VEVENT
BEGIN:VEVENT
DTSTART;TZID=America/New_York:20230817T090000
DTEND;TZID=America/New_York:20230817T140000
DTSTAMP:20260425T135259
CREATED:20230817T153103Z
LAST-MODIFIED:20230817T153103Z
UID:4566-1692262800-1692280800@centreridgepta.org
SUMMARY:Open House August 17th
DESCRIPTION:Pre-K orientation: 9:00-10:30 am; cafeteria\nAny K-2 student who has significant sensory needs or receives specialized instruction through an Individualized Education Plan (IEP) can meet their teacher(s) at 12:30 pm\, if desired.\nGeneral Open House for K-2: 1:00-2:00 pm\nPopsicles on the Playground at 1:45 pm\nAny grades 3-6 student who has significant sensory needs\, or who has an IEP can meet their teacher(s) at 2:00 pm\, if desired.\nGeneral Open House for Grades 3-6: 2:30-3:30 pm\n\nAn introductory letter from your child’s teacher will be emailed by Wednesday\, August 16th. Class assignments will be found in ParentVue by Wednesday\, August 16th. \nThank you for your patience as class assignments may change up to the morning of August 17th depending on enrollment.
URL:https://centreridgepta.org/event/open-house-august-17th/
LOCATION:Centre Ridge Elementary School\, 14400 New Braddock Rd\, Centreville\, VA\, 20121\, United States
END:VEVENT
END:VCALENDAR