BEGIN:VCALENDAR
VERSION:2.0
PRODID:-//Centre Ridge Elementary School PTA - ECPv6.15.16.1//NONSGML v1.0//EN
CALSCALE:GREGORIAN
METHOD:PUBLISH
X-ORIGINAL-URL:https://centreridgepta.org
X-WR-CALDESC:Events for Centre Ridge Elementary School PTA
REFRESH-INTERVAL;VALUE=DURATION:PT1H
X-Robots-Tag:noindex
X-PUBLISHED-TTL:PT1H
BEGIN:VTIMEZONE
TZID:America/New_York
BEGIN:DAYLIGHT
TZOFFSETFROM:-0500
TZOFFSETTO:-0400
TZNAME:EDT
DTSTART:20220313T070000
END:DAYLIGHT
BEGIN:STANDARD
TZOFFSETFROM:-0400
TZOFFSETTO:-0500
TZNAME:EST
DTSTART:20221106T060000
END:STANDARD
BEGIN:DAYLIGHT
TZOFFSETFROM:-0500
TZOFFSETTO:-0400
TZNAME:EDT
DTSTART:20230312T070000
END:DAYLIGHT
BEGIN:STANDARD
TZOFFSETFROM:-0400
TZOFFSETTO:-0500
TZNAME:EST
DTSTART:20231105T060000
END:STANDARD
BEGIN:DAYLIGHT
TZOFFSETFROM:-0500
TZOFFSETTO:-0400
TZNAME:EDT
DTSTART:20240310T070000
END:DAYLIGHT
BEGIN:STANDARD
TZOFFSETFROM:-0400
TZOFFSETTO:-0500
TZNAME:EST
DTSTART:20241103T060000
END:STANDARD
END:VTIMEZONE
BEGIN:VEVENT
DTSTART;VALUE=DATE:20231009
DTEND;VALUE=DATE:20231010
DTSTAMP:20260425T190132
CREATED:20230817T153420Z
LAST-MODIFIED:20230817T153420Z
UID:4574-1696809600-1696895999@centreridgepta.org
SUMMARY:Student Holiday - Indigenous Peoples’ Day
DESCRIPTION:
URL:https://centreridgepta.org/event/student-holiday-indigenous-peoples-day-2/
END:VEVENT
BEGIN:VEVENT
DTSTART;TZID=America/New_York:20231004T091500
DTEND;TZID=America/New_York:20231004T101500
DTSTAMP:20260425T190132
CREATED:20230913T170910Z
LAST-MODIFIED:20230913T170912Z
UID:4855-1696410900-1696414500@centreridgepta.org
SUMMARY:ESOL Community Coffee
DESCRIPTION:Join the ESOL team for coffee in the Cafeteria!
URL:https://centreridgepta.org/event/esol-community-coffee/
END:VEVENT
BEGIN:VEVENT
DTSTART;TZID=America/New_York:20230929T170000
DTEND;TZID=America/New_York:20230929T190000
DTSTAMP:20260425T190132
CREATED:20230908T130033Z
LAST-MODIFIED:20230908T130035Z
UID:4841-1696006800-1696014000@centreridgepta.org
SUMMARY:Centreville High School Homecoming Parade
DESCRIPTION:
URL:https://centreridgepta.org/event/centreville-high-school-homecoming-parade/
END:VEVENT
BEGIN:VEVENT
DTSTART;TZID=America/New_York:20230928T173000
DTEND;TZID=America/New_York:20230928T200000
DTSTAMP:20260425T190132
CREATED:20230817T154928Z
LAST-MODIFIED:20230830T223158Z
UID:4610-1695922200-1695931200@centreridgepta.org
SUMMARY:Back To School Night
DESCRIPTION:Kindergarten: 5:00 pm presentation (café); Classroom visit: 5:30 pm \nGrades 1 & 2: 5:45 pm presentation (gym/café); Classroom visit: 6:15 pm \nGrades 3 & 4: 6:30 pm presentation (gym/café); Classroom visit: 7:00 pm \nGrades 5 & 6: 7:15 pm presentation gym/café); Classroom visit: 7:45 pm \nClassroom visits will be 15 minutes. You will have an opportunity to view student learning and progress!
URL:https://centreridgepta.org/event/back-to-school-night-2/
END:VEVENT
BEGIN:VEVENT
DTSTART;VALUE=DATE:20230925
DTEND;VALUE=DATE:20230926
DTSTAMP:20260425T190132
CREATED:20230817T153343Z
LAST-MODIFIED:20230817T153343Z
UID:4572-1695600000-1695686399@centreridgepta.org
SUMMARY:Holiday (Yom Kippur)
DESCRIPTION:
URL:https://centreridgepta.org/event/holiday-yom-kippur/
END:VEVENT
BEGIN:VEVENT
DTSTART;TZID=America/New_York:20230912T190000
DTEND;TZID=America/New_York:20230912T200000
DTSTAMP:20260425T190132
CREATED:20230906T160737Z
LAST-MODIFIED:20230906T160737Z
UID:4660-1694545200-1694548800@centreridgepta.org
SUMMARY:PTA Meeting
DESCRIPTION:
URL:https://centreridgepta.org/event/pta-meeting-11/
LOCATION:Centre Ridge Elementary School\, 14400 New Braddock Rd\, Centreville\, VA\, 20121\, United States
ORGANIZER;CN="Centre Ridge Elementary School PTA":MAILTO:info@centreridgepta.org
END:VEVENT
BEGIN:VEVENT
DTSTART;VALUE=DATE:20230901
DTEND;VALUE=DATE:20230905
DTSTAMP:20260425T190132
CREATED:20230817T153312Z
LAST-MODIFIED:20230817T153312Z
UID:4570-1693526400-1693871999@centreridgepta.org
SUMMARY:Holiday (Labor Day Break)
DESCRIPTION:
URL:https://centreridgepta.org/event/holiday-labor-day-break-2/
END:VEVENT
BEGIN:VEVENT
DTSTART;VALUE=DATE:20230821
DTEND;VALUE=DATE:20230822
DTSTAMP:20260425T190132
CREATED:20230817T153230Z
LAST-MODIFIED:20230817T153230Z
UID:4568-1692576000-1692662399@centreridgepta.org
SUMMARY:School Begins - First Day of School
DESCRIPTION:
URL:https://centreridgepta.org/event/school-begins-first-day-of-school/
END:VEVENT
BEGIN:VEVENT
DTSTART;TZID=America/New_York:20230817T090000
DTEND;TZID=America/New_York:20230817T140000
DTSTAMP:20260425T190132
CREATED:20230817T153103Z
LAST-MODIFIED:20230817T153103Z
UID:4566-1692262800-1692280800@centreridgepta.org
SUMMARY:Open House August 17th
DESCRIPTION:Pre-K orientation: 9:00-10:30 am; cafeteria\nAny K-2 student who has significant sensory needs or receives specialized instruction through an Individualized Education Plan (IEP) can meet their teacher(s) at 12:30 pm\, if desired.\nGeneral Open House for K-2: 1:00-2:00 pm\nPopsicles on the Playground at 1:45 pm\nAny grades 3-6 student who has significant sensory needs\, or who has an IEP can meet their teacher(s) at 2:00 pm\, if desired.\nGeneral Open House for Grades 3-6: 2:30-3:30 pm\n\nAn introductory letter from your child’s teacher will be emailed by Wednesday\, August 16th. Class assignments will be found in ParentVue by Wednesday\, August 16th. \nThank you for your patience as class assignments may change up to the morning of August 17th depending on enrollment.
URL:https://centreridgepta.org/event/open-house-august-17th/
LOCATION:Centre Ridge Elementary School\, 14400 New Braddock Rd\, Centreville\, VA\, 20121\, United States
END:VEVENT
BEGIN:VEVENT
DTSTART;VALUE=DATE:20230616
DTEND;VALUE=DATE:20230617
DTSTAMP:20260425T190132
CREATED:20220718T214225Z
LAST-MODIFIED:20220718T214225Z
UID:3421-1686873600-1686959999@centreridgepta.org
SUMMARY:Last Day of School (Early Release)
DESCRIPTION:
URL:https://centreridgepta.org/event/last-day-of-school-early-release-2/
END:VEVENT
BEGIN:VEVENT
DTSTART;VALUE=DATE:20230608
DTEND;VALUE=DATE:20230609
DTSTAMP:20260425T190132
CREATED:20221012T175551Z
LAST-MODIFIED:20221012T175611Z
UID:3623-1686182400-1686268799@centreridgepta.org
SUMMARY:Popsicles on the Playground
DESCRIPTION:More details to come!
URL:https://centreridgepta.org/event/popsicles-on-the-playground-5/
END:VEVENT
BEGIN:VEVENT
DTSTART;VALUE=DATE:20230529
DTEND;VALUE=DATE:20230530
DTSTAMP:20260425T190132
CREATED:20220718T214148Z
LAST-MODIFIED:20220718T214148Z
UID:3419-1685318400-1685404799@centreridgepta.org
SUMMARY:Holiday (Memorial Day)
DESCRIPTION:
URL:https://centreridgepta.org/event/holiday-memorial-day-3/
END:VEVENT
BEGIN:VEVENT
DTSTART;TZID=America/New_York:20230516T190000
DTEND;TZID=America/New_York:20230516T190000
DTSTAMP:20260425T190132
CREATED:20221012T175353Z
LAST-MODIFIED:20230509T150808Z
UID:3621-1684263600-1684263600@centreridgepta.org
SUMMARY:PTA General Meeting
DESCRIPTION:In-person and online. Registration for Zoom link to follow.
URL:https://centreridgepta.org/event/general-pta-meeting-6/
LOCATION:Centre Ridge Elementary School\, 14400 New Braddock Rd\, Centreville\, VA\, 20121\, United States
END:VEVENT
BEGIN:VEVENT
DTSTART;VALUE=DATE:20230501
DTEND;VALUE=DATE:20230506
DTSTAMP:20260425T190132
CREATED:20221012T175213Z
LAST-MODIFIED:20221012T175213Z
UID:3619-1682899200-1683331199@centreridgepta.org
SUMMARY:Staff Appreciation Week
DESCRIPTION:
URL:https://centreridgepta.org/event/staff-appreciation-week-3/
END:VEVENT
BEGIN:VEVENT
DTSTART;TZID=America/New_York:20230428T074500
DTEND;TZID=America/New_York:20230428T083000
DTSTAMP:20260425T190132
CREATED:20221012T175058Z
LAST-MODIFIED:20221012T175058Z
UID:3617-1682667900-1682670600@centreridgepta.org
SUMMARY:Muffins with Moms
DESCRIPTION:
URL:https://centreridgepta.org/event/muffins-with-moms-2/
LOCATION:Centre Ridge Elementary School\, 14400 New Braddock Rd\, Centreville\, VA\, 20121\, United States
END:VEVENT
END:VCALENDAR